BEGIN:VCALENDAR
VERSION:2.0
PRODID:-//Trinity Washington University | Washington, DC - ECPv6.15.17.1//NONSGML v1.0//EN
CALSCALE:GREGORIAN
METHOD:PUBLISH
X-WR-CALNAME:Trinity Washington University | Washington, DC
X-ORIGINAL-URL:https://www2.trinitydc.edu
X-WR-CALDESC:Events for Trinity Washington University | Washington, DC
REFRESH-INTERVAL;VALUE=DURATION:PT1H
X-Robots-Tag:noindex
X-PUBLISHED-TTL:PT1H
BEGIN:VTIMEZONE
TZID:America/New_York
BEGIN:DAYLIGHT
TZOFFSETFROM:-0500
TZOFFSETTO:-0400
TZNAME:EDT
DTSTART:20250309T070000
END:DAYLIGHT
BEGIN:STANDARD
TZOFFSETFROM:-0400
TZOFFSETTO:-0500
TZNAME:EST
DTSTART:20251102T060000
END:STANDARD
BEGIN:DAYLIGHT
TZOFFSETFROM:-0500
TZOFFSETTO:-0400
TZNAME:EDT
DTSTART:20260308T070000
END:DAYLIGHT
BEGIN:STANDARD
TZOFFSETFROM:-0400
TZOFFSETTO:-0500
TZNAME:EST
DTSTART:20261101T060000
END:STANDARD
BEGIN:DAYLIGHT
TZOFFSETFROM:-0500
TZOFFSETTO:-0400
TZNAME:EDT
DTSTART:20270314T070000
END:DAYLIGHT
BEGIN:STANDARD
TZOFFSETFROM:-0400
TZOFFSETTO:-0500
TZNAME:EST
DTSTART:20271107T060000
END:STANDARD
END:VTIMEZONE
BEGIN:VEVENT
DTSTART;TZID=America/New_York:20260425T093000
DTEND;TZID=America/New_York:20260425T103000
DTSTAMP:20260421T061559
CREATED:20260121T193444Z
LAST-MODIFIED:20260121T195246Z
UID:10012700-1777109400-1777113000@www2.trinitydc.edu
SUMMARY:Yoga Stretch
DESCRIPTION:
URL:https://www2.trinitydc.edu/event/yoga-stretch-2/2026-04-25/
LOCATION:Trinity Athletic Center
CATEGORIES:Trinity Center
END:VEVENT
BEGIN:VEVENT
DTSTART;TZID=America/New_York:20260502T093000
DTEND;TZID=America/New_York:20260502T103000
DTSTAMP:20260421T061559
CREATED:20260121T193444Z
LAST-MODIFIED:20260121T195246Z
UID:10012701-1777714200-1777717800@www2.trinitydc.edu
SUMMARY:Yoga Stretch
DESCRIPTION:
URL:https://www2.trinitydc.edu/event/yoga-stretch-2/2026-05-02/
LOCATION:Trinity Athletic Center
CATEGORIES:Trinity Center
END:VEVENT
BEGIN:VEVENT
DTSTART;TZID=America/New_York:20260509T093000
DTEND;TZID=America/New_York:20260509T103000
DTSTAMP:20260421T061559
CREATED:20260121T193444Z
LAST-MODIFIED:20260121T195246Z
UID:10012702-1778319000-1778322600@www2.trinitydc.edu
SUMMARY:Yoga Stretch
DESCRIPTION:
URL:https://www2.trinitydc.edu/event/yoga-stretch-2/2026-05-09/
LOCATION:Trinity Athletic Center
CATEGORIES:Trinity Center
END:VEVENT
BEGIN:VEVENT
DTSTART;TZID=America/New_York:20260516T093000
DTEND;TZID=America/New_York:20260516T103000
DTSTAMP:20260421T061559
CREATED:20260121T193444Z
LAST-MODIFIED:20260121T195246Z
UID:10012703-1778923800-1778927400@www2.trinitydc.edu
SUMMARY:Yoga Stretch
DESCRIPTION:
URL:https://www2.trinitydc.edu/event/yoga-stretch-2/2026-05-16/
LOCATION:Trinity Athletic Center
CATEGORIES:Trinity Center
END:VEVENT
BEGIN:VEVENT
DTSTART;TZID=America/New_York:20260530T093000
DTEND;TZID=America/New_York:20260530T103000
DTSTAMP:20260421T061559
CREATED:20260121T193444Z
LAST-MODIFIED:20260121T195246Z
UID:10012705-1780133400-1780137000@www2.trinitydc.edu
SUMMARY:Yoga Stretch
DESCRIPTION:
URL:https://www2.trinitydc.edu/event/yoga-stretch-2/2026-05-30/
LOCATION:Trinity Athletic Center
CATEGORIES:Trinity Center
END:VEVENT
BEGIN:VEVENT
DTSTART;TZID=America/New_York:20260606T093000
DTEND;TZID=America/New_York:20260606T103000
DTSTAMP:20260421T061559
CREATED:20260121T193444Z
LAST-MODIFIED:20260121T195246Z
UID:10012706-1780738200-1780741800@www2.trinitydc.edu
SUMMARY:Yoga Stretch
DESCRIPTION:
URL:https://www2.trinitydc.edu/event/yoga-stretch-2/2026-06-06/
LOCATION:Trinity Athletic Center
CATEGORIES:Trinity Center
END:VEVENT
BEGIN:VEVENT
DTSTART;TZID=America/New_York:20260613T093000
DTEND;TZID=America/New_York:20260613T103000
DTSTAMP:20260421T061559
CREATED:20260121T193444Z
LAST-MODIFIED:20260121T195246Z
UID:10012707-1781343000-1781346600@www2.trinitydc.edu
SUMMARY:Yoga Stretch
DESCRIPTION:
URL:https://www2.trinitydc.edu/event/yoga-stretch-2/2026-06-13/
LOCATION:Trinity Athletic Center
CATEGORIES:Trinity Center
END:VEVENT
BEGIN:VEVENT
DTSTART;TZID=America/New_York:20260620T093000
DTEND;TZID=America/New_York:20260620T103000
DTSTAMP:20260421T061559
CREATED:20260121T193444Z
LAST-MODIFIED:20260121T195246Z
UID:10012708-1781947800-1781951400@www2.trinitydc.edu
SUMMARY:Yoga Stretch
DESCRIPTION:
URL:https://www2.trinitydc.edu/event/yoga-stretch-2/2026-06-20/
LOCATION:Trinity Athletic Center
CATEGORIES:Trinity Center
END:VEVENT
BEGIN:VEVENT
DTSTART;TZID=America/New_York:20260627T093000
DTEND;TZID=America/New_York:20260627T103000
DTSTAMP:20260421T061559
CREATED:20260121T193444Z
LAST-MODIFIED:20260121T195246Z
UID:10012709-1782552600-1782556200@www2.trinitydc.edu
SUMMARY:Yoga Stretch
DESCRIPTION:
URL:https://www2.trinitydc.edu/event/yoga-stretch-2/2026-06-27/
LOCATION:Trinity Athletic Center
CATEGORIES:Trinity Center
END:VEVENT
BEGIN:VEVENT
DTSTART;TZID=America/New_York:20260704T093000
DTEND;TZID=America/New_York:20260704T103000
DTSTAMP:20260421T061559
CREATED:20260121T193444Z
LAST-MODIFIED:20260121T195246Z
UID:10012710-1783157400-1783161000@www2.trinitydc.edu
SUMMARY:Yoga Stretch
DESCRIPTION:
URL:https://www2.trinitydc.edu/event/yoga-stretch-2/2026-07-04/
LOCATION:Trinity Athletic Center
CATEGORIES:Trinity Center
END:VEVENT
BEGIN:VEVENT
DTSTART;TZID=America/New_York:20260711T093000
DTEND;TZID=America/New_York:20260711T103000
DTSTAMP:20260421T061559
CREATED:20260121T193444Z
LAST-MODIFIED:20260121T195246Z
UID:10012711-1783762200-1783765800@www2.trinitydc.edu
SUMMARY:Yoga Stretch
DESCRIPTION:
URL:https://www2.trinitydc.edu/event/yoga-stretch-2/2026-07-11/
LOCATION:Trinity Athletic Center
CATEGORIES:Trinity Center
END:VEVENT
BEGIN:VEVENT
DTSTART;TZID=America/New_York:20260718T093000
DTEND;TZID=America/New_York:20260718T103000
DTSTAMP:20260421T061559
CREATED:20260121T193444Z
LAST-MODIFIED:20260121T195246Z
UID:10012712-1784367000-1784370600@www2.trinitydc.edu
SUMMARY:Yoga Stretch
DESCRIPTION:
URL:https://www2.trinitydc.edu/event/yoga-stretch-2/2026-07-18/
LOCATION:Trinity Athletic Center
CATEGORIES:Trinity Center
END:VEVENT
BEGIN:VEVENT
DTSTART;TZID=America/New_York:20260725T093000
DTEND;TZID=America/New_York:20260725T103000
DTSTAMP:20260421T061559
CREATED:20260121T193444Z
LAST-MODIFIED:20260121T195246Z
UID:10012713-1784971800-1784975400@www2.trinitydc.edu
SUMMARY:Yoga Stretch
DESCRIPTION:
URL:https://www2.trinitydc.edu/event/yoga-stretch-2/2026-07-25/
LOCATION:Trinity Athletic Center
CATEGORIES:Trinity Center
END:VEVENT
BEGIN:VEVENT
DTSTART;TZID=America/New_York:20260801T093000
DTEND;TZID=America/New_York:20260801T103000
DTSTAMP:20260421T061559
CREATED:20260121T193444Z
LAST-MODIFIED:20260121T195246Z
UID:10012714-1785576600-1785580200@www2.trinitydc.edu
SUMMARY:Yoga Stretch
DESCRIPTION:
URL:https://www2.trinitydc.edu/event/yoga-stretch-2/2026-08-01/
LOCATION:Trinity Athletic Center
CATEGORIES:Trinity Center
END:VEVENT
BEGIN:VEVENT
DTSTART;TZID=America/New_York:20260808T093000
DTEND;TZID=America/New_York:20260808T103000
DTSTAMP:20260421T061559
CREATED:20260121T193444Z
LAST-MODIFIED:20260121T195246Z
UID:10012715-1786181400-1786185000@www2.trinitydc.edu
SUMMARY:Yoga Stretch
DESCRIPTION:
URL:https://www2.trinitydc.edu/event/yoga-stretch-2/2026-08-08/
LOCATION:Trinity Athletic Center
CATEGORIES:Trinity Center
END:VEVENT
BEGIN:VEVENT
DTSTART;TZID=America/New_York:20260815T093000
DTEND;TZID=America/New_York:20260815T103000
DTSTAMP:20260421T061559
CREATED:20260121T193444Z
LAST-MODIFIED:20260121T195246Z
UID:10012716-1786786200-1786789800@www2.trinitydc.edu
SUMMARY:Yoga Stretch
DESCRIPTION:
URL:https://www2.trinitydc.edu/event/yoga-stretch-2/2026-08-15/
LOCATION:Trinity Athletic Center
CATEGORIES:Trinity Center
END:VEVENT
BEGIN:VEVENT
DTSTART;TZID=America/New_York:20260822T093000
DTEND;TZID=America/New_York:20260822T103000
DTSTAMP:20260421T061559
CREATED:20260121T193444Z
LAST-MODIFIED:20260121T195246Z
UID:10012717-1787391000-1787394600@www2.trinitydc.edu
SUMMARY:Yoga Stretch
DESCRIPTION:
URL:https://www2.trinitydc.edu/event/yoga-stretch-2/2026-08-22/
LOCATION:Trinity Athletic Center
CATEGORIES:Trinity Center
END:VEVENT
BEGIN:VEVENT
DTSTART;TZID=America/New_York:20260829T093000
DTEND;TZID=America/New_York:20260829T103000
DTSTAMP:20260421T061559
CREATED:20260121T193444Z
LAST-MODIFIED:20260121T195246Z
UID:10012718-1787995800-1787999400@www2.trinitydc.edu
SUMMARY:Yoga Stretch
DESCRIPTION:
URL:https://www2.trinitydc.edu/event/yoga-stretch-2/2026-08-29/
LOCATION:Trinity Athletic Center
CATEGORIES:Trinity Center
END:VEVENT
BEGIN:VEVENT
DTSTART;TZID=America/New_York:20260905T093000
DTEND;TZID=America/New_York:20260905T103000
DTSTAMP:20260421T061559
CREATED:20260121T193444Z
LAST-MODIFIED:20260121T195246Z
UID:10012719-1788600600-1788604200@www2.trinitydc.edu
SUMMARY:Yoga Stretch
DESCRIPTION:
URL:https://www2.trinitydc.edu/event/yoga-stretch-2/2026-09-05/
LOCATION:Trinity Athletic Center
CATEGORIES:Trinity Center
END:VEVENT
BEGIN:VEVENT
DTSTART;TZID=America/New_York:20260912T093000
DTEND;TZID=America/New_York:20260912T103000
DTSTAMP:20260421T061559
CREATED:20260121T193444Z
LAST-MODIFIED:20260121T195246Z
UID:10012720-1789205400-1789209000@www2.trinitydc.edu
SUMMARY:Yoga Stretch
DESCRIPTION:
URL:https://www2.trinitydc.edu/event/yoga-stretch-2/2026-09-12/
LOCATION:Trinity Athletic Center
CATEGORIES:Trinity Center
END:VEVENT
BEGIN:VEVENT
DTSTART;TZID=America/New_York:20260919T093000
DTEND;TZID=America/New_York:20260919T103000
DTSTAMP:20260421T061559
CREATED:20260121T193444Z
LAST-MODIFIED:20260121T195246Z
UID:10012721-1789810200-1789813800@www2.trinitydc.edu
SUMMARY:Yoga Stretch
DESCRIPTION:
URL:https://www2.trinitydc.edu/event/yoga-stretch-2/2026-09-19/
LOCATION:Trinity Athletic Center
CATEGORIES:Trinity Center
END:VEVENT
BEGIN:VEVENT
DTSTART;TZID=America/New_York:20260926T093000
DTEND;TZID=America/New_York:20260926T103000
DTSTAMP:20260421T061559
CREATED:20260121T193444Z
LAST-MODIFIED:20260121T195246Z
UID:10012722-1790415000-1790418600@www2.trinitydc.edu
SUMMARY:Yoga Stretch
DESCRIPTION:
URL:https://www2.trinitydc.edu/event/yoga-stretch-2/2026-09-26/
LOCATION:Trinity Athletic Center
CATEGORIES:Trinity Center
END:VEVENT
BEGIN:VEVENT
DTSTART;TZID=America/New_York:20261003T093000
DTEND;TZID=America/New_York:20261003T103000
DTSTAMP:20260421T061559
CREATED:20260121T193444Z
LAST-MODIFIED:20260121T195246Z
UID:10012723-1791019800-1791023400@www2.trinitydc.edu
SUMMARY:Yoga Stretch
DESCRIPTION:
URL:https://www2.trinitydc.edu/event/yoga-stretch-2/2026-10-03/
LOCATION:Trinity Athletic Center
CATEGORIES:Trinity Center
END:VEVENT
BEGIN:VEVENT
DTSTART;TZID=America/New_York:20261010T093000
DTEND;TZID=America/New_York:20261010T103000
DTSTAMP:20260421T061559
CREATED:20260121T193444Z
LAST-MODIFIED:20260121T195246Z
UID:10012724-1791624600-1791628200@www2.trinitydc.edu
SUMMARY:Yoga Stretch
DESCRIPTION:
URL:https://www2.trinitydc.edu/event/yoga-stretch-2/2026-10-10/
LOCATION:Trinity Athletic Center
CATEGORIES:Trinity Center
END:VEVENT
BEGIN:VEVENT
DTSTART;TZID=America/New_York:20261017T093000
DTEND;TZID=America/New_York:20261017T103000
DTSTAMP:20260421T061559
CREATED:20260121T193444Z
LAST-MODIFIED:20260121T195246Z
UID:10012725-1792229400-1792233000@www2.trinitydc.edu
SUMMARY:Yoga Stretch
DESCRIPTION:
URL:https://www2.trinitydc.edu/event/yoga-stretch-2/2026-10-17/
LOCATION:Trinity Athletic Center
CATEGORIES:Trinity Center
END:VEVENT
BEGIN:VEVENT
DTSTART;TZID=America/New_York:20261024T093000
DTEND;TZID=America/New_York:20261024T103000
DTSTAMP:20260421T061559
CREATED:20260121T193444Z
LAST-MODIFIED:20260121T195246Z
UID:10012726-1792834200-1792837800@www2.trinitydc.edu
SUMMARY:Yoga Stretch
DESCRIPTION:
URL:https://www2.trinitydc.edu/event/yoga-stretch-2/2026-10-24/
LOCATION:Trinity Athletic Center
CATEGORIES:Trinity Center
END:VEVENT
BEGIN:VEVENT
DTSTART;TZID=America/New_York:20261031T093000
DTEND;TZID=America/New_York:20261031T103000
DTSTAMP:20260421T061559
CREATED:20260121T193444Z
LAST-MODIFIED:20260121T195246Z
UID:10012727-1793439000-1793442600@www2.trinitydc.edu
SUMMARY:Yoga Stretch
DESCRIPTION:
URL:https://www2.trinitydc.edu/event/yoga-stretch-2/2026-10-31/
LOCATION:Trinity Athletic Center
CATEGORIES:Trinity Center
END:VEVENT
BEGIN:VEVENT
DTSTART;TZID=America/New_York:20261107T093000
DTEND;TZID=America/New_York:20261107T103000
DTSTAMP:20260421T061559
CREATED:20260121T193444Z
LAST-MODIFIED:20260121T195246Z
UID:10012728-1794043800-1794047400@www2.trinitydc.edu
SUMMARY:Yoga Stretch
DESCRIPTION:
URL:https://www2.trinitydc.edu/event/yoga-stretch-2/2026-11-07/
LOCATION:Trinity Athletic Center
CATEGORIES:Trinity Center
END:VEVENT
BEGIN:VEVENT
DTSTART;TZID=America/New_York:20261114T093000
DTEND;TZID=America/New_York:20261114T103000
DTSTAMP:20260421T061559
CREATED:20260121T193444Z
LAST-MODIFIED:20260121T195246Z
UID:10012729-1794648600-1794652200@www2.trinitydc.edu
SUMMARY:Yoga Stretch
DESCRIPTION:
URL:https://www2.trinitydc.edu/event/yoga-stretch-2/2026-11-14/
LOCATION:Trinity Athletic Center
CATEGORIES:Trinity Center
END:VEVENT
BEGIN:VEVENT
DTSTART;TZID=America/New_York:20261121T093000
DTEND;TZID=America/New_York:20261121T103000
DTSTAMP:20260421T061559
CREATED:20260121T193444Z
LAST-MODIFIED:20260121T195246Z
UID:10012730-1795253400-1795257000@www2.trinitydc.edu
SUMMARY:Yoga Stretch
DESCRIPTION:
URL:https://www2.trinitydc.edu/event/yoga-stretch-2/2026-11-21/
LOCATION:Trinity Athletic Center
CATEGORIES:Trinity Center
END:VEVENT
END:VCALENDAR