BEGIN:VCALENDAR
VERSION:2.0
PRODID:-//Trinity Washington University | Washington, DC - ECPv6.15.17.1//NONSGML v1.0//EN
CALSCALE:GREGORIAN
METHOD:PUBLISH
X-WR-CALNAME:Trinity Washington University | Washington, DC
X-ORIGINAL-URL:https://www2.trinitydc.edu
X-WR-CALDESC:Events for Trinity Washington University | Washington, DC
REFRESH-INTERVAL;VALUE=DURATION:PT1H
X-Robots-Tag:noindex
X-PUBLISHED-TTL:PT1H
BEGIN:VTIMEZONE
TZID:America/New_York
BEGIN:DAYLIGHT
TZOFFSETFROM:-0500
TZOFFSETTO:-0400
TZNAME:EDT
DTSTART:20250309T070000
END:DAYLIGHT
BEGIN:STANDARD
TZOFFSETFROM:-0400
TZOFFSETTO:-0500
TZNAME:EST
DTSTART:20251102T060000
END:STANDARD
BEGIN:DAYLIGHT
TZOFFSETFROM:-0500
TZOFFSETTO:-0400
TZNAME:EDT
DTSTART:20260308T070000
END:DAYLIGHT
BEGIN:STANDARD
TZOFFSETFROM:-0400
TZOFFSETTO:-0500
TZNAME:EST
DTSTART:20261101T060000
END:STANDARD
BEGIN:DAYLIGHT
TZOFFSETFROM:-0500
TZOFFSETTO:-0400
TZNAME:EDT
DTSTART:20270314T070000
END:DAYLIGHT
BEGIN:STANDARD
TZOFFSETFROM:-0400
TZOFFSETTO:-0500
TZNAME:EST
DTSTART:20271107T060000
END:STANDARD
END:VTIMEZONE
BEGIN:VEVENT
DTSTART;TZID=America/New_York:20260323T191500
DTEND;TZID=America/New_York:20260323T200000
DTSTAMP:20260423T104842
CREATED:20260121T192133Z
LAST-MODIFIED:20260124T160142Z
UID:10011450-1774293300-1774296000@www2.trinitydc.edu
SUMMARY:and8 Fitness (Hip Hop Zumba)
DESCRIPTION:
URL:https://www2.trinitydc.edu/event/and8-fitness-hip-hop-zumba/2026-03-23/
LOCATION:Trinity Athletic Center
CATEGORIES:Trinity Center
END:VEVENT
BEGIN:VEVENT
DTSTART;TZID=America/New_York:20260323T173000
DTEND;TZID=America/New_York:20260323T183000
DTSTAMP:20260423T104842
CREATED:20260121T191005Z
LAST-MODIFIED:20260127T224233Z
UID:10011323-1774287000-1774290600@www2.trinitydc.edu
SUMMARY:Zumba Gold
DESCRIPTION:
URL:https://www2.trinitydc.edu/event/zumba-gold-2/2026-03-23/
LOCATION:Trinity Athletic Center
CATEGORIES:Trinity Center
END:VEVENT
BEGIN:VEVENT
DTSTART;TZID=America/New_York:20260323T130000
DTEND;TZID=America/New_York:20260323T140000
DTSTAMP:20260423T104842
CREATED:20260121T190828Z
LAST-MODIFIED:20260127T224203Z
UID:10011189-1774270800-1774274400@www2.trinitydc.edu
SUMMARY:Mixed Level Pilates
DESCRIPTION:
URL:https://www2.trinitydc.edu/event/mixed-level-pilates-2/2026-03-23/
LOCATION:Trinity Athletic Center
CATEGORIES:Trinity Center
END:VEVENT
BEGIN:VEVENT
DTSTART;TZID=America/New_York:20260323T100000
DTEND;TZID=America/New_York:20260323T110000
DTSTAMP:20260423T104842
CREATED:20251007T132957Z
LAST-MODIFIED:20260127T224148Z
UID:10009452-1774260000-1774263600@www2.trinitydc.edu
SUMMARY:Strength & Conditioning
DESCRIPTION:
URL:https://www2.trinitydc.edu/event/strength-conditioning/2026-03-23/
LOCATION:Trinity Athletic Center
CATEGORIES:Trinity Center
END:VEVENT
BEGIN:VEVENT
DTSTART;TZID=America/New_York:20260323T083000
DTEND;TZID=America/New_York:20260323T093000
DTSTAMP:20260423T104842
CREATED:20260121T190505Z
LAST-MODIFIED:20260127T224404Z
UID:10010921-1774254600-1774258200@www2.trinitydc.edu
SUMMARY:Impact Water Aerobics
DESCRIPTION:
URL:https://www2.trinitydc.edu/event/impact-water-aerobics-2/2026-03-23/
LOCATION:Trinity Athletic Center
CATEGORIES:Trinity Center
END:VEVENT
BEGIN:VEVENT
DTSTART;TZID=America/New_York:20260323T070000
DTEND;TZID=America/New_York:20260323T080000
DTSTAMP:20260423T104842
CREATED:20241115T192857Z
LAST-MODIFIED:20260127T224348Z
UID:10003816-1774249200-1774252800@www2.trinitydc.edu
SUMMARY:In Home Fitness
DESCRIPTION:In Home Fitness is a high intensity fitness class. This class includes body weight exercises\, high intensity cardio\, jump rope and other full body exercises. \nThis class is currently being run both in-person and virtually via ZOOM. \n 
URL:https://www2.trinitydc.edu/event/in-home-fitness-2/2026-03-23/
LOCATION:Trinity Athletic Center
CATEGORIES:Trinity Center
END:VEVENT
BEGIN:VEVENT
DTSTART;VALUE=DATE:20260301
DTEND;VALUE=DATE:20260401
DTSTAMP:20260423T104842
CREATED:20260121T185730Z
LAST-MODIFIED:20260121T185730Z
UID:10010703-1772323200-1775001599@www2.trinitydc.edu
SUMMARY:Trinity Celebrates Women's History Month
DESCRIPTION:
URL:https://www2.trinitydc.edu/event/trinity-celebrates-womens-history-month/
LOCATION:ALL CAMPUS\, 125 Michigan Ave NE\, Washington\, DC\, 20018\, United States
CATEGORIES:Show on Homepage
END:VEVENT
END:VCALENDAR