BEGIN:VCALENDAR
VERSION:2.0
PRODID:-//Trinity Washington University | Washington, DC - ECPv6.15.17.1//NONSGML v1.0//EN
CALSCALE:GREGORIAN
METHOD:PUBLISH
X-ORIGINAL-URL:https://www2.trinitydc.edu
X-WR-CALDESC:Events for Trinity Washington University | Washington, DC
REFRESH-INTERVAL;VALUE=DURATION:PT1H
X-Robots-Tag:noindex
X-PUBLISHED-TTL:PT1H
BEGIN:VTIMEZONE
TZID:America/New_York
BEGIN:DAYLIGHT
TZOFFSETFROM:-0500
TZOFFSETTO:-0400
TZNAME:EDT
DTSTART:20250309T070000
END:DAYLIGHT
BEGIN:STANDARD
TZOFFSETFROM:-0400
TZOFFSETTO:-0500
TZNAME:EST
DTSTART:20251102T060000
END:STANDARD
BEGIN:DAYLIGHT
TZOFFSETFROM:-0500
TZOFFSETTO:-0400
TZNAME:EDT
DTSTART:20260308T070000
END:DAYLIGHT
BEGIN:STANDARD
TZOFFSETFROM:-0400
TZOFFSETTO:-0500
TZNAME:EST
DTSTART:20261101T060000
END:STANDARD
BEGIN:DAYLIGHT
TZOFFSETFROM:-0500
TZOFFSETTO:-0400
TZNAME:EDT
DTSTART:20270314T070000
END:DAYLIGHT
BEGIN:STANDARD
TZOFFSETFROM:-0400
TZOFFSETTO:-0500
TZNAME:EST
DTSTART:20271107T060000
END:STANDARD
END:VTIMEZONE
BEGIN:VEVENT
DTSTART;TZID=America/New_York:20260409T120000
DTEND;TZID=America/New_York:20260409T143000
DTSTAMP:20260425T162337
CREATED:20260402T174035Z
LAST-MODIFIED:20260402T174035Z
UID:10013989-1775736000-1775745000@www2.trinitydc.edu
SUMMARY:Social Justice Reading & Open Mic
DESCRIPTION:[vc_row type=”in_container” full_screen_row_position=”middle” column_margin=”default” column_direction=”default” column_direction_tablet=”default” column_direction_phone=”default” scene_position=”center” text_color=”dark” text_align=”left” row_border_radius=”none” row_border_radius_applies=”bg” row_position_desktop=”default” row_position_tablet=”inherit” row_position_phone=”inherit” overflow=”visible” overlay_strength=”0.3″ gradient_direction=”left_to_right” shape_divider_position=”bottom” bg_image_animation=”none”][vc_column column_padding=”no-extra-padding” column_padding_tablet=”inherit” column_padding_phone=”inherit” column_padding_position=”all” flex_gap_desktop=”10px” column_element_direction_desktop=”default” column_element_spacing=”default” desktop_text_alignment=”default” tablet_text_alignment=”default” phone_text_alignment=”default” background_color_opacity=”1″ background_hover_color_opacity=”1″ column_backdrop_filter=”none” column_shadow=”none” column_border_radius=”none” column_link_target=”_self” column_position=”default” gradient_direction=”left_to_right” overlay_strength=”0.3″ width=”1/1″ tablet_width_inherit=”default” animation_type=”default” bg_image_animation=”none” border_type=”simple” column_border_width=”none” column_border_style=”solid”][vc_column_text css=”” text_direction=”default”]Join published student authors as they share original works\, and read a work yourself\, as the Humanities for Justice and Trinity Reads look at Social Justice Readings for Children. Thursday April 9th\, Library 208. Contact the library to sign up. trinitylibrary@trinitydc.edu \n\nLocation: Library\, Room 208 (Women’s Study Space)\nLunch provided\nFormat: Sign up for up to 8 minutes of mic time to read from works that transformed you — poems\, fiction\, essays\, speeches\, or personal work. After sign-ups\, the mic opens for 3 minutes per person.\n\n[/vc_column_text][/vc_column][/vc_row]
URL:https://www2.trinitydc.edu/event/social-justice-reading-open-mic/
LOCATION:Sister Helen Sheehan Library\, 125 Michigan Ave. NE\, Washington\, DC\, 20017\, United States
CATEGORIES:Library Events,Library Programming,Show on Homepage
END:VEVENT
BEGIN:VEVENT
DTSTART;TZID=America/New_York:20260409T153000
DTEND;TZID=America/New_York:20260409T170000
DTSTAMP:20260425T162337
CREATED:20260402T134330Z
LAST-MODIFIED:20260402T134330Z
UID:10013980-1775748600-1775754000@www2.trinitydc.edu
SUMMARY:Trinity Lacrosse Vs.Wilson
DESCRIPTION:
URL:https://www2.trinitydc.edu/event/trinity-lacrosse-vs-wilson/
LOCATION:Soccer Field
CATEGORIES:Show on Homepage
END:VEVENT
BEGIN:VEVENT
DTSTART;TZID=America/New_York:20260413T133000
DTEND;TZID=America/New_York:20260413T143000
DTSTAMP:20260425T162337
CREATED:20260402T134812Z
LAST-MODIFIED:20260402T134812Z
UID:10013983-1776087000-1776090600@www2.trinitydc.edu
SUMMARY:Defending Ourselves & Our Children
DESCRIPTION:
URL:https://www2.trinitydc.edu/event/defending-ourselves-our-children/
LOCATION:Sister Helen Sheehan Library\, 125 Michigan Ave. NE\, Washington\, DC\, 20017\, United States
CATEGORIES:Show on Homepage
END:VEVENT
BEGIN:VEVENT
DTSTART;TZID=America/New_York:20260413T160000
DTEND;TZID=America/New_York:20260413T170000
DTSTAMP:20260425T162337
CREATED:20260402T134903Z
LAST-MODIFIED:20260402T134903Z
UID:10013984-1776096000-1776099600@www2.trinitydc.edu
SUMMARY:The Dream Act: Call to Action
DESCRIPTION:
URL:https://www2.trinitydc.edu/event/the-dream-act-call-to-action/
LOCATION:Main Hall
CATEGORIES:Show on Homepage
END:VEVENT
BEGIN:VEVENT
DTSTART;TZID=America/New_York:20260414T100000
DTEND;TZID=America/New_York:20260414T113000
DTSTAMP:20260425T162337
CREATED:20260402T134958Z
LAST-MODIFIED:20260402T134958Z
UID:10013985-1776160800-1776166200@www2.trinitydc.edu
SUMMARY:Black Student Alliance: Clothing Swap
DESCRIPTION:
URL:https://www2.trinitydc.edu/event/black-student-alliance-clothing-swap/
LOCATION:Payden Academic Center
CATEGORIES:Show on Homepage
END:VEVENT
BEGIN:VEVENT
DTSTART;TZID=America/New_York:20260414T150000
DTEND;TZID=America/New_York:20260414T160000
DTSTAMP:20260425T162337
CREATED:20260402T135044Z
LAST-MODIFIED:20260402T135044Z
UID:10013986-1776178800-1776182400@www2.trinitydc.edu
SUMMARY:Battle of the Classes Game Day
DESCRIPTION:
URL:https://www2.trinitydc.edu/event/battle-of-the-classes-game-day/
LOCATION:Main Hall
CATEGORIES:Show on Homepage
END:VEVENT
BEGIN:VEVENT
DTSTART;TZID=America/New_York:20260416T160000
DTEND;TZID=America/New_York:20260416T180000
DTSTAMP:20260425T162337
CREATED:20260402T135229Z
LAST-MODIFIED:20260402T135229Z
UID:10013988-1776355200-1776362400@www2.trinitydc.edu
SUMMARY:Dreamers End of The Year Celebration
DESCRIPTION:
URL:https://www2.trinitydc.edu/event/dreamers-end-of-the-year-celebration/
LOCATION:Main Hall
CATEGORIES:Show on Homepage
END:VEVENT
BEGIN:VEVENT
DTSTART;TZID=America/New_York:20260420T133000
DTEND;TZID=America/New_York:20260420T143000
DTSTAMP:20260425T162337
CREATED:20260416T155607Z
LAST-MODIFIED:20260416T155607Z
UID:10014022-1776691800-1776695400@www2.trinitydc.edu
SUMMARY:Flower Hour
DESCRIPTION:
URL:https://www2.trinitydc.edu/event/flower-hour/
LOCATION:Payden Academic Center
CATEGORIES:Show on Homepage
END:VEVENT
BEGIN:VEVENT
DTSTART;VALUE=DATE:20260422
DTEND;VALUE=DATE:20260423
DTSTAMP:20260425T162337
CREATED:20260416T155655Z
LAST-MODIFIED:20260416T155655Z
UID:10014023-1776816000-1776902399@www2.trinitydc.edu
SUMMARY:Founders Day
DESCRIPTION:
URL:https://www2.trinitydc.edu/event/founders-day/
LOCATION:ALL CAMPUS\, 125 Michigan Ave NE\, Washington\, DC\, 20018\, United States
CATEGORIES:Show on Homepage
END:VEVENT
BEGIN:VEVENT
DTSTART;TZID=America/New_York:20260422T140000
DTEND;TZID=America/New_York:20260422T150000
DTSTAMP:20260425T162337
CREATED:20260416T160719Z
LAST-MODIFIED:20260416T160719Z
UID:10014024-1776866400-1776870000@www2.trinitydc.edu
SUMMARY:Student Award Recognition Ceremony
DESCRIPTION:
URL:https://www2.trinitydc.edu/event/student-award-recognition-ceremony/
LOCATION:Main Hall
CATEGORIES:Show on Homepage
END:VEVENT
BEGIN:VEVENT
DTSTART;TZID=America/New_York:20260423T130000
DTEND;TZID=America/New_York:20260423T140000
DTSTAMP:20260425T162337
CREATED:20260416T155854Z
LAST-MODIFIED:20260416T155854Z
UID:10014025-1776949200-1776952800@www2.trinitydc.edu
SUMMARY:Student Activities Club and Organization Award Ceremony
DESCRIPTION:
URL:https://www2.trinitydc.edu/event/student-activities-club-and-organization-award-ceremony/
LOCATION:Main Hall
CATEGORIES:Show on Homepage
END:VEVENT
BEGIN:VEVENT
DTSTART;TZID=America/New_York:20260425T100000
DTEND;TZID=America/New_York:20260425T130000
DTSTAMP:20260425T162337
CREATED:20260416T155958Z
LAST-MODIFIED:20260416T155958Z
UID:10014026-1777111200-1777122000@www2.trinitydc.edu
SUMMARY:Start Strong! New Fall 2026 Students
DESCRIPTION:
URL:https://www2.trinitydc.edu/event/start-strong-new-fall-2026-students-2/
LOCATION:Payden Academic Center
CATEGORIES:Show on Homepage
END:VEVENT
BEGIN:VEVENT
DTSTART;VALUE=DATE:20260427
DTEND;VALUE=DATE:20260428
DTSTAMP:20260425T162337
CREATED:20260416T160210Z
LAST-MODIFIED:20260416T160210Z
UID:10014028-1777248000-1777334399@www2.trinitydc.edu
SUMMARY:W.S.A.C All Day Study Marathon
DESCRIPTION:
URL:https://www2.trinitydc.edu/event/w-s-a-c-all-day-study-marathon/
LOCATION:Sister Helen Sheehan Library\, 125 Michigan Ave. NE\, Washington\, DC\, 20017\, United States
CATEGORIES:Show on Homepage
END:VEVENT
BEGIN:VEVENT
DTSTART;VALUE=DATE:20260427
DTEND;VALUE=DATE:20260514
DTSTAMP:20260425T162337
CREATED:20260416T160803Z
LAST-MODIFIED:20260416T160803Z
UID:10014027-1777248000-1778716799@www2.trinitydc.edu
SUMMARY:Cap and Gown Sales and Pick Up
DESCRIPTION:
URL:https://www2.trinitydc.edu/event/cap-and-gown-sales-and-pick-up/
LOCATION:Main Hall
CATEGORIES:Show on Homepage
END:VEVENT
BEGIN:VEVENT
DTSTART;TZID=America/New_York:20260429T100000
DTEND;TZID=America/New_York:20260429T140000
DTSTAMP:20260425T162337
CREATED:20260416T160302Z
LAST-MODIFIED:20260416T160302Z
UID:10014029-1777456800-1777471200@www2.trinitydc.edu
SUMMARY:Stay Strong: Returning Student Registration Event
DESCRIPTION:
URL:https://www2.trinitydc.edu/event/stay-strong-returning-student-registration-event/
LOCATION:Payden Academic Center
CATEGORIES:Show on Homepage
END:VEVENT
BEGIN:VEVENT
DTSTART;TZID=America/New_York:20260429T160000
DTEND;TZID=America/New_York:20260429T170000
DTSTAMP:20260425T162337
CREATED:20260416T160356Z
LAST-MODIFIED:20260416T160356Z
UID:10014030-1777478400-1777482000@www2.trinitydc.edu
SUMMARY:The Next Chapter: Trinity Senior Send Off
DESCRIPTION:
URL:https://www2.trinitydc.edu/event/the-next-chapter-trinity-senior-send-off/
LOCATION:Main Hall
CATEGORIES:Show on Homepage
END:VEVENT
BEGIN:VEVENT
DTSTART;TZID=America/New_York:20260430T190000
DTEND;TZID=America/New_York:20260430T220000
DTSTAMP:20260425T162337
CREATED:20260416T160448Z
LAST-MODIFIED:20260416T160448Z
UID:10014031-1777575600-1777586400@www2.trinitydc.edu
SUMMARY:Late Night Breakfast
DESCRIPTION:
URL:https://www2.trinitydc.edu/event/late-night-breakfast/
LOCATION:Cuvilly Hall
CATEGORIES:Show on Homepage
END:VEVENT
BEGIN:VEVENT
DTSTART;VALUE=DATE:20260502
DTEND;VALUE=DATE:20260510
DTSTAMP:20260425T162337
CREATED:20260416T160555Z
LAST-MODIFIED:20260416T160555Z
UID:10014032-1777680000-1778371199@www2.trinitydc.edu
SUMMARY:24 Quiet Hours
DESCRIPTION:
URL:https://www2.trinitydc.edu/event/24-quiet-hours/
LOCATION:ALL CAMPUS\, 125 Michigan Ave NE\, Washington\, DC\, 20018\, United States
CATEGORIES:Show on Homepage
END:VEVENT
BEGIN:VEVENT
DTSTART;VALUE=DATE:20260504
DTEND;VALUE=DATE:20260509
DTSTAMP:20260425T162337
CREATED:20260416T155508Z
LAST-MODIFIED:20260416T155508Z
UID:10014021-1777852800-1778284799@www2.trinitydc.edu
SUMMARY:Final Exams
DESCRIPTION:
URL:https://www2.trinitydc.edu/event/final-exams/
LOCATION:ALL CAMPUS\, 125 Michigan Ave NE\, Washington\, DC\, 20018\, United States
CATEGORIES:Show on Homepage
END:VEVENT
END:VCALENDAR