BEGIN:VCALENDAR
VERSION:2.0
PRODID:-//Trinity Washington University | Washington, DC - ECPv6.15.17.1//NONSGML v1.0//EN
CALSCALE:GREGORIAN
METHOD:PUBLISH
X-WR-CALNAME:Trinity Washington University | Washington, DC
X-ORIGINAL-URL:https://www2.trinitydc.edu
X-WR-CALDESC:Events for Trinity Washington University | Washington, DC
REFRESH-INTERVAL;VALUE=DURATION:PT1H
X-Robots-Tag:noindex
X-PUBLISHED-TTL:PT1H
BEGIN:VTIMEZONE
TZID:America/New_York
BEGIN:DAYLIGHT
TZOFFSETFROM:-0500
TZOFFSETTO:-0400
TZNAME:EDT
DTSTART:20250309T070000
END:DAYLIGHT
BEGIN:STANDARD
TZOFFSETFROM:-0400
TZOFFSETTO:-0500
TZNAME:EST
DTSTART:20251102T060000
END:STANDARD
BEGIN:DAYLIGHT
TZOFFSETFROM:-0500
TZOFFSETTO:-0400
TZNAME:EDT
DTSTART:20260308T070000
END:DAYLIGHT
BEGIN:STANDARD
TZOFFSETFROM:-0400
TZOFFSETTO:-0500
TZNAME:EST
DTSTART:20261101T060000
END:STANDARD
BEGIN:DAYLIGHT
TZOFFSETFROM:-0500
TZOFFSETTO:-0400
TZNAME:EDT
DTSTART:20270314T070000
END:DAYLIGHT
BEGIN:STANDARD
TZOFFSETFROM:-0400
TZOFFSETTO:-0500
TZNAME:EST
DTSTART:20271107T060000
END:STANDARD
END:VTIMEZONE
BEGIN:VEVENT
DTSTART;VALUE=DATE:20260301
DTEND;VALUE=DATE:20260401
DTSTAMP:20260425T113414
CREATED:20260121T185730Z
LAST-MODIFIED:20260121T185730Z
UID:10010703-1772323200-1775001599@www2.trinitydc.edu
SUMMARY:Trinity Celebrates Women's History Month
DESCRIPTION:
URL:https://www2.trinitydc.edu/event/trinity-celebrates-womens-history-month/
LOCATION:ALL CAMPUS\, 125 Michigan Ave NE\, Washington\, DC\, 20018\, United States
CATEGORIES:Show on Homepage
END:VEVENT
BEGIN:VEVENT
DTSTART;TZID=America/New_York:20260327T130000
DTEND;TZID=America/New_York:20260327T150000
DTSTAMP:20260425T113414
CREATED:20260313T132205Z
LAST-MODIFIED:20260313T132205Z
UID:10013936-1774616400-1774623600@www2.trinitydc.edu
SUMMARY:Stations of the Cross
DESCRIPTION:
URL:https://www2.trinitydc.edu/event/stations-of-the-cross/
LOCATION:Notre Dame Chapel\, 125 Michigan Ave. NE\, Washington\, DC\, 20017\, United States
CATEGORIES:Show on Homepage
END:VEVENT
BEGIN:VEVENT
DTSTART;TZID=America/New_York:20260328T180000
DTEND;TZID=America/New_York:20260328T190000
DTSTAMP:20260425T113414
CREATED:20260313T132323Z
LAST-MODIFIED:20260313T132323Z
UID:10013937-1774720800-1774724400@www2.trinitydc.edu
SUMMARY:Student Government Council: 50 Nights till Graduation Ball in Social Hall
DESCRIPTION:
URL:https://www2.trinitydc.edu/event/student-government-council-50-nights-till-graduation-ball-in-social-hall/
LOCATION:Main Hall
CATEGORIES:Show on Homepage
END:VEVENT
BEGIN:VEVENT
DTSTART;TZID=America/New_York:20260330T130000
DTEND;TZID=America/New_York:20260330T140000
DTSTAMP:20260425T113414
CREATED:20260313T132459Z
LAST-MODIFIED:20260313T132459Z
UID:10013938-1774875600-1774879200@www2.trinitydc.edu
SUMMARY:Women's History Month: Photo Re-creation Gallery Day in Rose Parlor
DESCRIPTION:
URL:https://www2.trinitydc.edu/event/womens-history-month-photo-re-creation-gallery-day-in-rose-parlor/
LOCATION:Main Hall
CATEGORIES:Show on Homepage
END:VEVENT
BEGIN:VEVENT
DTSTART;TZID=America/New_York:20260330T170000
DTEND;TZID=America/New_York:20260330T170000
DTSTAMP:20260425T113414
CREATED:20260313T132617Z
LAST-MODIFIED:20260313T132617Z
UID:10013939-1774890000-1774890000@www2.trinitydc.edu
SUMMARY:Returning Resident Room Selection Intent Form Due
DESCRIPTION:
URL:https://www2.trinitydc.edu/event/returning-resident-room-selection-intent-form-due/
LOCATION:ALL CAMPUS\, 125 Michigan Ave NE\, Washington\, DC\, 20018\, United States
CATEGORIES:Show on Homepage
END:VEVENT
BEGIN:VEVENT
DTSTART;TZID=America/New_York:20260331T130000
DTEND;TZID=America/New_York:20260331T140000
DTSTAMP:20260425T113414
CREATED:20260313T132712Z
LAST-MODIFIED:20260313T132712Z
UID:10013940-1774962000-1774965600@www2.trinitydc.edu
SUMMARY:Ladies F.I.R.S.T: Create your Own Lava Lamp
DESCRIPTION:
URL:https://www2.trinitydc.edu/event/ladies-f-i-r-s-t-create-your-own-lava-lamp/
LOCATION:Payden Academic Center
CATEGORIES:Show on Homepage
END:VEVENT
END:VCALENDAR