BEGIN:VCALENDAR
VERSION:2.0
PRODID:-//Trinity Washington University | Washington, DC - ECPv6.15.17.1//NONSGML v1.0//EN
CALSCALE:GREGORIAN
METHOD:PUBLISH
X-WR-CALNAME:Trinity Washington University | Washington, DC
X-ORIGINAL-URL:https://www2.trinitydc.edu
X-WR-CALDESC:Events for Trinity Washington University | Washington, DC
REFRESH-INTERVAL;VALUE=DURATION:PT1H
X-Robots-Tag:noindex
X-PUBLISHED-TTL:PT1H
BEGIN:VTIMEZONE
TZID:America/New_York
BEGIN:DAYLIGHT
TZOFFSETFROM:-0500
TZOFFSETTO:-0400
TZNAME:EDT
DTSTART:20250309T070000
END:DAYLIGHT
BEGIN:STANDARD
TZOFFSETFROM:-0400
TZOFFSETTO:-0500
TZNAME:EST
DTSTART:20251102T060000
END:STANDARD
BEGIN:DAYLIGHT
TZOFFSETFROM:-0500
TZOFFSETTO:-0400
TZNAME:EDT
DTSTART:20260308T070000
END:DAYLIGHT
BEGIN:STANDARD
TZOFFSETFROM:-0400
TZOFFSETTO:-0500
TZNAME:EST
DTSTART:20261101T060000
END:STANDARD
BEGIN:DAYLIGHT
TZOFFSETFROM:-0500
TZOFFSETTO:-0400
TZNAME:EDT
DTSTART:20270314T070000
END:DAYLIGHT
BEGIN:STANDARD
TZOFFSETFROM:-0400
TZOFFSETTO:-0500
TZNAME:EST
DTSTART:20271107T060000
END:STANDARD
END:VTIMEZONE
BEGIN:VEVENT
DTSTART;TZID=America/New_York:20260425T093000
DTEND;TZID=America/New_York:20260425T103000
DTSTAMP:20260425T093939
CREATED:20260121T193444Z
LAST-MODIFIED:20260121T195246Z
UID:10012700-1777109400-1777113000@www2.trinitydc.edu
SUMMARY:Yoga Stretch
DESCRIPTION:
URL:https://www2.trinitydc.edu/event/yoga-stretch-2/2026-04-25/
LOCATION:Trinity Athletic Center
CATEGORIES:Trinity Center
END:VEVENT
BEGIN:VEVENT
DTSTART;TZID=America/New_York:20260425T100000
DTEND;TZID=America/New_York:20260425T130000
DTSTAMP:20260425T093939
CREATED:20260416T155958Z
LAST-MODIFIED:20260416T155958Z
UID:10014026-1777111200-1777122000@www2.trinitydc.edu
SUMMARY:Start Strong! New Fall 2026 Students
DESCRIPTION:
URL:https://www2.trinitydc.edu/event/start-strong-new-fall-2026-students-2/
LOCATION:Payden Academic Center
CATEGORIES:Show on Homepage
END:VEVENT
BEGIN:VEVENT
DTSTART;TZID=America/New_York:20260425T110000
DTEND;TZID=America/New_York:20260425T114500
DTSTAMP:20260425T093939
CREATED:20260121T193621Z
LAST-MODIFIED:20260121T195323Z
UID:10012961-1777114800-1777117500@www2.trinitydc.edu
SUMMARY:and8 Fitness (Hip Hop Zumba)
DESCRIPTION:
URL:https://www2.trinitydc.edu/event/and8-fitness-hip-hop-zumba-2/2026-04-25/
LOCATION:Trinity Athletic Center
CATEGORIES:Trinity Center
END:VEVENT
END:VCALENDAR