BEGIN:VCALENDAR
VERSION:2.0
PRODID:-//Trinity Washington University | Washington, DC - ECPv6.15.17.1//NONSGML v1.0//EN
CALSCALE:GREGORIAN
METHOD:PUBLISH
X-ORIGINAL-URL:https://www2.trinitydc.edu
X-WR-CALDESC:Events for Trinity Washington University | Washington, DC
REFRESH-INTERVAL;VALUE=DURATION:PT1H
X-Robots-Tag:noindex
X-PUBLISHED-TTL:PT1H
BEGIN:VTIMEZONE
TZID:America/New_York
BEGIN:DAYLIGHT
TZOFFSETFROM:-0500
TZOFFSETTO:-0400
TZNAME:EDT
DTSTART:20250309T070000
END:DAYLIGHT
BEGIN:STANDARD
TZOFFSETFROM:-0400
TZOFFSETTO:-0500
TZNAME:EST
DTSTART:20251102T060000
END:STANDARD
BEGIN:DAYLIGHT
TZOFFSETFROM:-0500
TZOFFSETTO:-0400
TZNAME:EDT
DTSTART:20260308T070000
END:DAYLIGHT
BEGIN:STANDARD
TZOFFSETFROM:-0400
TZOFFSETTO:-0500
TZNAME:EST
DTSTART:20261101T060000
END:STANDARD
BEGIN:DAYLIGHT
TZOFFSETFROM:-0500
TZOFFSETTO:-0400
TZNAME:EDT
DTSTART:20270314T070000
END:DAYLIGHT
BEGIN:STANDARD
TZOFFSETFROM:-0400
TZOFFSETTO:-0500
TZNAME:EST
DTSTART:20271107T060000
END:STANDARD
END:VTIMEZONE
BEGIN:VEVENT
DTSTART;VALUE=DATE:20260301
DTEND;VALUE=DATE:20260401
DTSTAMP:20260425T212446
CREATED:20260121T185730Z
LAST-MODIFIED:20260121T185730Z
UID:10010703-1772323200-1775001599@www2.trinitydc.edu
SUMMARY:Trinity Celebrates Women's History Month
DESCRIPTION:
URL:https://www2.trinitydc.edu/event/trinity-celebrates-womens-history-month/
LOCATION:ALL CAMPUS\, 125 Michigan Ave NE\, Washington\, DC\, 20018\, United States
CATEGORIES:Show on Homepage
END:VEVENT
BEGIN:VEVENT
DTSTART;TZID=America/New_York:20260331T100000
DTEND;TZID=America/New_York:20260331T110000
DTSTAMP:20260425T212446
CREATED:20260126T183759Z
LAST-MODIFIED:20260127T224300Z
UID:10013318-1774951200-1774954800@www2.trinitydc.edu
SUMMARY:Stretch Class
DESCRIPTION:
URL:https://www2.trinitydc.edu/event/stretch-class/2026-03-31/
LOCATION:Trinity Athletic Center
CATEGORIES:Trinity Center
END:VEVENT
BEGIN:VEVENT
DTSTART;TZID=America/New_York:20260331T120000
DTEND;TZID=America/New_York:20260331T133000
DTSTAMP:20260425T212446
CREATED:20260121T193103Z
LAST-MODIFIED:20260127T224319Z
UID:10012050-1774958400-1774963800@www2.trinitydc.edu
SUMMARY:FNAR267 – Contemporary Dance (TRINITY STUDENTS ONLY)
DESCRIPTION:
URL:https://www2.trinitydc.edu/event/fnar267-contemporary-dance-trinity-students-only/2026-03-31/
LOCATION:Trinity Athletic Center
CATEGORIES:Trinity Center
END:VEVENT
BEGIN:VEVENT
DTSTART;TZID=America/New_York:20260331T130000
DTEND;TZID=America/New_York:20260331T140000
DTSTAMP:20260425T212446
CREATED:20260313T132712Z
LAST-MODIFIED:20260313T132712Z
UID:10013940-1774962000-1774965600@www2.trinitydc.edu
SUMMARY:Ladies F.I.R.S.T: Create your Own Lava Lamp
DESCRIPTION:
URL:https://www2.trinitydc.edu/event/ladies-f-i-r-s-t-create-your-own-lava-lamp/
LOCATION:Payden Academic Center
CATEGORIES:Show on Homepage
END:VEVENT
BEGIN:VEVENT
DTSTART;TZID=America/New_York:20260331T180000
DTEND;TZID=America/New_York:20260331T190000
DTSTAMP:20260425T212446
CREATED:20260121T193336Z
LAST-MODIFIED:20260414T164153Z
UID:10012184-1774980000-1774983600@www2.trinitydc.edu
SUMMARY:Cardio Intervals
DESCRIPTION:
URL:https://www2.trinitydc.edu/event/cardio-intervals-2/2026-03-31/
LOCATION:Trinity Athletic Center
CATEGORIES:Trinity Center
END:VEVENT
END:VCALENDAR